Workbook
Name サービスの種類: DB!$P$2:$Q$10
Name 介護医療院: DB!$C$29:$J$32
Name 介護老人福祉施設: DB!$C$2:$J$13
Name 介護老人保健施設: DB!$C$21:$J$28
Name 小規模多機能型居宅介護: DB!$C$62:$I$72
Name 地域密着型介護老人福祉施設: DB!$C$14:$J$20
Name 地域密着型特定施設入居者生活介護: DB!$C$39:$J$41
Name 特定施設入居者生活介護: DB!$C$33:$J$38
Name 認知症対応型共同生活介護: DB!$C$42:$J$61
Name 複合型サービス: DB!$C$73:$I$76

Sheet 介護保険施設名簿
A1: 表示したいサービスを選択してください。（表示を消したいときはこちら「 」）
B2: 介護老人福祉施設 | C2: 地域密着型介護老人福祉施設 | E2: 介護老人保健施設
B3: 介護医療院 | C3: 特定施設入居者生活介護 | E3: 地域密着型特定施設入居者生活介護 | J3: 10 | K3: =IF(OR(ISBLANK(J3),J3=10),"",VLOOKUP(J3,サービスの種類,2,FALSE))
B4: 認知症対応型共同生活介護 | C4: 小規模多機能型居宅介護 | E4: 複合サービス
A5: 【 介 護 保 険 に よ る 施 設 （介護の認定が必要） 】 ※お申込みは各事業者へ
A6: =IF(ISERROR(INDEX(INDIRECT($K$3),1,1)),"",INDEX(INDIRECT($K$3),1,1)) | D6: =IF(OR(ISBLANK(J3),J3=10),"",IF(OR(J3=8,J3=9),"※登録者数は","※入所者数、待機者数は")&TEXT(データ貼付けシート!I3,"ge.m.d")&"現在の数値です。")
B7: =IF(ISERROR(INDEX(INDIRECT($K$3),2,1)),"",INDEX(INDIRECT($K$3),2,1))
B8: 施設の名称 | C8: 住所（八代市） | D8: 電話番号 | E8: 定員 | F8: =IF(OR(K3="小規模多機能型居宅介護",K3="複合型サービス"),"現登録者数","現入所者数") -> 現入所者数 | G8: =IF(OR(K3="小規模多機能型居宅介護",K3="複合型サービス"),"","入所待機者数") -> 入所待機者数
A9: =IF(ISERROR(INDEX(INDIRECT($K$3),3,1)),"",INDEX(INDIRECT($K$3),3,1)) | B9: =IF(ISERROR(INDEX(INDIRECT($K$3),3,2)),"",INDEX(INDIRECT($K$3),3,2)) | C9: =IF(ISERROR(INDEX(INDIRECT($K$3),3,3)),"",INDEX(INDIRECT($K$3),3,3)) | D9: =IF(ISERROR(INDEX(INDIRECT($K$3),3,4)),"",INDEX(INDIRECT($K$3),3,4)) | E9: =IF(ISERROR(INDEX(INDIRECT($K$3),3,6)),"",INDEX(INDIRECT($K$3),3,6)) | F9: =IF(ISERROR(INDEX(INDIRECT($K$3),3,7)),"",INDEX(INDIRECT($K$3),3,7)) | G9: =IF(ISERROR(INDEX(INDIRECT($K$3),3,8)),"",INDEX(INDIRECT($K$3),3,8))
A10: =IF(ISERROR(INDEX(INDIRECT($K$3),4,1)),"",INDEX(INDIRECT($K$3),4,1)) | B10: =IF(ISERROR(INDEX(INDIRECT($K$3),4,2)),"",INDEX(INDIRECT($K$3),4,2)) | C10: =IF(ISERROR(INDEX(INDIRECT($K$3),4,3)),"",INDEX(INDIRECT($K$3),4,3)) | D10: =IF(ISERROR(INDEX(INDIRECT($K$3),4,4)),"",INDEX(INDIRECT($K$3),4,4)) | E10: =IF(ISERROR(INDEX(INDIRECT($K$3),4,6)),"",INDEX(INDIRECT($K$3),4,6)) | F10: =IF(ISERROR(INDEX(INDIRECT($K$3),4,7)),"",INDEX(INDIRECT($K$3),4,7)) | G10: =IF(ISERROR(INDEX(INDIRECT($K$3),4,8)),"",INDEX(INDIRECT($K$3),4,8))
A11: =IF(ISERROR(INDEX(INDIRECT($K$3),5,1)),"",INDEX(INDIRECT($K$3),5,1)) | B11: =IF(ISERROR(INDEX(INDIRECT($K$3),5,2)),"",INDEX(INDIRECT($K$3),5,2)) | C11: =IF(ISERROR(INDEX(INDIRECT($K$3),5,3)),"",INDEX(INDIRECT($K$3),5,3)) | D11: =IF(ISERROR(INDEX(INDIRECT($K$3),5,4)),"",INDEX(INDIRECT($K$3),5,4)) | E11: =IF(ISERROR(INDEX(INDIRECT($K$3),5,6)),"",INDEX(INDIRECT($K$3),5,6)) | F11: =IF(ISERROR(INDEX(INDIRECT($K$3),5,7)),"",INDEX(INDIRECT($K$3),5,7)) | G11: =IF(ISERROR(INDEX(INDIRECT($K$3),5,8)),"",INDEX(INDIRECT($K$3),5,8))
A12: =IF(ISERROR(INDEX(INDIRECT($K$3),6,1)),"",INDEX(INDIRECT($K$3),6,1)) | B12: =IF(ISERROR(INDEX(INDIRECT($K$3),6,2)),"",INDEX(INDIRECT($K$3),6,2)) | C12: =IF(ISERROR(INDEX(INDIRECT($K$3),6,3)),"",INDEX(INDIRECT($K$3),6,3)) | D12: =IF(ISERROR(INDEX(INDIRECT($K$3),6,4)),"",INDEX(INDIRECT($K$3),6,4)) | E12: =IF(ISERROR(INDEX(INDIRECT($K$3),6,6)),"",INDEX(INDIRECT($K$3),6,6)) | F12: =IF(ISERROR(INDEX(INDIRECT($K$3),6,7)),"",INDEX(INDIRECT($K$3),6,7)) | G12: =IF(ISERROR(INDEX(INDIRECT($K$3),6,8)),"",INDEX(INDIRECT($K$3),6,8))
A13: =IF(ISERROR(INDEX(INDIRECT($K$3),7,1)),"",INDEX(INDIRECT($K$3),7,1)) | B13: =IF(ISERROR(INDEX(INDIRECT($K$3),7,2)),"",INDEX(INDIRECT($K$3),7,2)) | C13: =IF(ISERROR(INDEX(INDIRECT($K$3),7,3)),"",INDEX(INDIRECT($K$3),7,3)) | D13: =IF(ISERROR(INDEX(INDIRECT($K$3),7,4)),"",INDEX(INDIRECT($K$3),7,4)) | E13: =IF(ISERROR(INDEX(INDIRECT($K$3),7,6)),"",INDEX(INDIRECT($K$3),7,6)) | F13: =IF(ISERROR(INDEX(INDIRECT($K$3),7,7)),"",INDEX(INDIRECT($K$3),7,7)) | G13: =IF(ISERROR(INDEX(INDIRECT($K$3),7,8)),"",INDEX(INDIRECT($K$3),7,8))
A14: =IF(ISERROR(INDEX(INDIRECT($K$3),8,1)),"",INDEX(INDIRECT($K$3),8,1)) | B14: =IF(ISERROR(INDEX(INDIRECT($K$3),8,2)),"",INDEX(INDIRECT($K$3),8,2)) | C14: =IF(ISERROR(INDEX(INDIRECT($K$3),8,3)),"",INDEX(INDIRECT($K$3),8,3)) | D14: =IF(ISERROR(INDEX(INDIRECT($K$3),8,4)),"",INDEX(INDIRECT($K$3),8,4)) | E14: =IF(ISERROR(INDEX(INDIRECT($K$3),8,6)),"",INDEX(INDIRECT($K$3),8,6)) | F14: =IF(ISERROR(INDEX(INDIRECT($K$3),8,7)),"",INDEX(INDIRECT($K$3),8,7)) | G14: =IF(ISERROR(INDEX(INDIRECT($K$3),8,8)),"",INDEX(INDIRECT($K$3),8,8))
A15: =IF(ISERROR(INDEX(INDIRECT($K$3),9,1)),"",INDEX(INDIRECT($K$3),9,1)) | B15: =IF(ISERROR(INDEX(INDIRECT($K$3),9,2)),"",INDEX(INDIRECT($K$3),9,2)) | C15: =IF(ISERROR(INDEX(INDIRECT($K$3),9,3)),"",INDEX(INDIRECT($K$3),9,3)) | D15: =IF(ISERROR(INDEX(INDIRECT($K$3),9,4)),"",INDEX(INDIRECT($K$3),9,4)) | E15: =IF(ISERROR(INDEX(INDIRECT($K$3),9,6)),"",INDEX(INDIRECT($K$3),9,6)) | F15: =IF(ISERROR(INDEX(INDIRECT($K$3),9,7)),"",INDEX(INDIRECT($K$3),9,7)) | G15: =IF(ISERROR(INDEX(INDIRECT($K$3),9,8)),"",INDEX(INDIRECT($K$3),9,8))
A16: =IF(ISERROR(INDEX(INDIRECT($K$3),10,1)),"",INDEX(INDIRECT($K$3),10,1)) | B16: =IF(ISERROR(INDEX(INDIRECT($K$3),10,2)),"",INDEX(INDIRECT($K$3),10,2)) | C16: =IF(ISERROR(INDEX(INDIRECT($K$3),10,3)),"",INDEX(INDIRECT($K$3),10,3)) | D16: =IF(ISERROR(INDEX(INDIRECT($K$3),10,4)),"",INDEX(INDIRECT($K$3),10,4)) | E16: =IF(ISERROR(INDEX(INDIRECT($K$3),10,6)),"",INDEX(INDIRECT($K$3),10,6)) | F16: =IF(ISERROR(INDEX(INDIRECT($K$3),10,7)),"",INDEX(INDIRECT($K$3),10,7)) | G16: =IF(ISERROR(INDEX(INDIRECT($K$3),10,8)),"",INDEX(INDIRECT($K$3),10,8))
A17: =IF(ISERROR(INDEX(INDIRECT($K$3),11,1)),"",INDEX(INDIRECT($K$3),11,1)) | B17: =IF(ISERROR(INDEX(INDIRECT($K$3),11,2)),"",INDEX(INDIRECT($K$3),11,2)) | C17: =IF(ISERROR(INDEX(INDIRECT($K$3),11,3)),"",INDEX(INDIRECT($K$3),11,3)) | D17: =IF(ISERROR(INDEX(INDIRECT($K$3),11,4)),"",INDEX(INDIRECT($K$3),11,4)) | E17: =IF(ISERROR(INDEX(INDIRECT($K$3),11,6)),"",INDEX(INDIRECT($K$3),11,6)) | F17: =IF(ISERROR(INDEX(INDIRECT($K$3),11,7)),"",INDEX(INDIRECT($K$3),11,7)) | G17: =IF(ISERROR(INDEX(INDIRECT($K$3),11,8)),"",INDEX(INDIRECT($K$3),11,8))
A18: =IF(ISERROR(INDEX(INDIRECT($K$3),12,1)),"",INDEX(INDIRECT($K$3),12,1)) | B18: =IF(ISERROR(INDEX(INDIRECT($K$3),12,2)),"",INDEX(INDIRECT($K$3),12,2)) | C18: =IF(ISERROR(INDEX(INDIRECT($K$3),12,3)),"",INDEX(INDIRECT($K$3),12,3)) | D18: =IF(ISERROR(INDEX(INDIRECT($K$3),12,4)),"",INDEX(INDIRECT($K$3),12,4)) | E18: =IF(ISERROR(INDEX(INDIRECT($K$3),12,6)),"",INDEX(INDIRECT($K$3),12,6)) | F18: =IF(ISERROR(INDEX(INDIRECT($K$3),12,7)),"",INDEX(INDIRECT($K$3),12,7)) | G18: =IF(ISERROR(INDEX(INDIRECT($K$3),12,8)),"",INDEX(INDIRECT($K$3),12,8))
A19: =IF(ISERROR(INDEX(INDIRECT($K$3),13,1)),"",INDEX(INDIRECT($K$3),13,1)) | B19: =IF(ISERROR(INDEX(INDIRECT($K$3),13,2)),"",INDEX(INDIRECT($K$3),13,2)) | C19: =IF(ISERROR(INDEX(INDIRECT($K$3),13,3)),"",INDEX(INDIRECT($K$3),13,3)) | D19: =IF(ISERROR(INDEX(INDIRECT($K$3),13,4)),"",INDEX(INDIRECT($K$3),13,4)) | E19: =IF(ISERROR(INDEX(INDIRECT($K$3),13,6)),"",INDEX(INDIRECT($K$3),13,6)) | F19: =IF(ISERROR(INDEX(INDIRECT($K$3),13,7)),"",INDEX(INDIRECT($K$3),13,7)) | G19: =IF(ISERROR(INDEX(INDIRECT($K$3),13,8)),"",INDEX(INDIRECT($K$3),13,8))
A20: =IF(ISERROR(INDEX(INDIRECT($K$3),14,1)),"",INDEX(INDIRECT($K$3),14,1)) | B20: =IF(ISERROR(INDEX(INDIRECT($K$3),14,2)),"",INDEX(INDIRECT($K$3),14,2)) | C20: =IF(ISERROR(INDEX(INDIRECT($K$3),14,3)),"",INDEX(INDIRECT($K$3),14,3)) | D20: =IF(ISERROR(INDEX(INDIRECT($K$3),14,4)),"",INDEX(INDIRECT($K$3),14,4)) | E20: =IF(ISERROR(INDEX(INDIRECT($K$3),14,6)),"",INDEX(INDIRECT($K$3),14,6)) | F20: =IF(ISERROR(INDEX(INDIRECT($K$3),14,7)),"",INDEX(INDIRECT($K$3),14,7)) | G20: =IF(ISERROR(INDEX(INDIRECT($K$3),14,8)),"",INDEX(INDIRECT($K$3),14,8))
A21: =IF(ISERROR(INDEX(INDIRECT($K$3),15,1)),"",INDEX(INDIRECT($K$3),15,1)) | B21: =IF(ISERROR(INDEX(INDIRECT($K$3),15,2)),"",INDEX(INDIRECT($K$3),15,2)) | C21: =IF(ISERROR(INDEX(INDIRECT($K$3),15,3)),"",INDEX(INDIRECT($K$3),15,3)) | D21: =IF(ISERROR(INDEX(INDIRECT($K$3),15,4)),"",INDEX(INDIRECT($K$3),15,4)) | E21: =IF(ISERROR(INDEX(INDIRECT($K$3),15,6)),"",INDEX(INDIRECT($K$3),15,6)) | F21: =IF(ISERROR(INDEX(INDIRECT($K$3),15,7)),"",INDEX(INDIRECT($K$3),15,7)) | G21: =IF(ISERROR(INDEX(INDIRECT($K$3),15,8)),"",INDEX(INDIRECT($K$3),15,8))
A22: =IF(ISERROR(INDEX(INDIRECT($K$3),16,1)),"",INDEX(INDIRECT($K$3),16,1)) | B22: =IF(ISERROR(INDEX(INDIRECT($K$3),16,2)),"",INDEX(INDIRECT($K$3),16,2)) | C22: =IF(ISERROR(INDEX(INDIRECT($K$3),16,3)),"",INDEX(INDIRECT($K$3),16,3)) | D22: =IF(ISERROR(INDEX(INDIRECT($K$3),16,4)),"",INDEX(INDIRECT($K$3),16,4)) | E22: =IF(ISERROR(INDEX(INDIRECT($K$3),16,6)),"",INDEX(INDIRECT($K$3),16,6)) | F22: =IF(ISERROR(INDEX(INDIRECT($K$3),16,7)),"",INDEX(INDIRECT($K$3),16,7)) | G22: =IF(ISERROR(INDEX(INDIRECT($K$3),16,8)),"",INDEX(INDIRECT($K$3),16,8))
A23: =IF(ISERROR(INDEX(INDIRECT($K$3),17,1)),"",INDEX(INDIRECT($K$3),17,1)) | B23: =IF(ISERROR(INDEX(INDIRECT($K$3),17,2)),"",INDEX(INDIRECT($K$3),17,2)) | C23: =IF(ISERROR(INDEX(INDIRECT($K$3),17,3)),"",INDEX(INDIRECT($K$3),17,3)) | D23: =IF(ISERROR(INDEX(INDIRECT($K$3),17,4)),"",INDEX(INDIRECT($K$3),17,4)) | E23: =IF(ISERROR(INDEX(INDIRECT($K$3),17,6)),"",INDEX(INDIRECT($K$3),17,6)) | F23: =IF(ISERROR(INDEX(INDIRECT($K$3),17,7)),"",INDEX(INDIRECT($K$3),17,7)) | G23: =IF(ISERROR(INDEX(INDIRECT($K$3),17,8)),"",INDEX(INDIRECT($K$3),17,8))
A24: =IF(ISERROR(INDEX(INDIRECT($K$3),18,1)),"",INDEX(INDIRECT($K$3),18,1)) | B24: =IF(ISERROR(INDEX(INDIRECT($K$3),18,2)),"",INDEX(INDIRECT($K$3),18,2)) | C24: =IF(ISERROR(INDEX(INDIRECT($K$3),18,3)),"",INDEX(INDIRECT($K$3),18,3)) | D24: =IF(ISERROR(INDEX(INDIRECT($K$3),18,4)),"",INDEX(INDIRECT($K$3),18,4)) | E24: =IF(ISERROR(INDEX(INDIRECT($K$3),18,6)),"",INDEX(INDIRECT($K$3),18,6)) | F24: =IF(ISERROR(INDEX(INDIRECT($K$3),18,7)),"",INDEX(INDIRECT($K$3),18,7)) | G24: =IF(ISERROR(INDEX(INDIRECT($K$3),18,8)),"",INDEX(INDIRECT($K$3),18,8))
A25: =IF(ISERROR(INDEX(INDIRECT($K$3),19,1)),"",INDEX(INDIRECT($K$3),19,1)) | B25: =IF(ISERROR(INDEX(INDIRECT($K$3),19,2)),"",INDEX(INDIRECT($K$3),19,2)) | C25: =IF(ISERROR(INDEX(INDIRECT($K$3),19,3)),"",INDEX(INDIRECT($K$3),19,3)) | D25: =IF(ISERROR(INDEX(INDIRECT($K$3),19,4)),"",INDEX(INDIRECT($K$3),19,4)) | E25: =IF(ISERROR(INDEX(INDIRECT($K$3),19,6)),"",INDEX(INDIRECT($K$3),19,6)) | F25: =IF(ISERROR(INDEX(INDIRECT($K$3),19,7)),"",INDEX(INDIRECT($K$3),19,7)) | G25: =IF(ISERROR(INDEX(INDIRECT($K$3),19,8)),"",INDEX(INDIRECT($K$3),19,8))
A26: =IF(ISERROR(INDEX(INDIRECT($K$3),20,1)),"",INDEX(INDIRECT($K$3),20,1)) | B26: =IF(ISERROR(INDEX(INDIRECT($K$3),20,2)),"",INDEX(INDIRECT($K$3),20,2)) | C26: =IF(ISERROR(INDEX(INDIRECT($K$3),20,3)),"",INDEX(INDIRECT($K$3),20,3)) | D26: =IF(ISERROR(INDEX(INDIRECT($K$3),20,4)),"",INDEX(INDIRECT($K$3),20,4)) | E26: =IF(ISERROR(INDEX(INDIRECT($K$3),20,6)),"",INDEX(INDIRECT($K$3),20,6)) | F26: =IF(ISERROR(INDEX(INDIRECT($K$3),20,7)),"",INDEX(INDIRECT($K$3),20,7)) | G26: =IF(ISERROR(INDEX(INDIRECT($K$3),20,8)),"",INDEX(INDIRECT($K$3),20,8))
A27: =IF(ISERROR(INDEX(INDIRECT($K$3),21,1)),"",INDEX(INDIRECT($K$3),21,1)) | B27: =IF(ISERROR(INDEX(INDIRECT($K$3),21,2)),"",INDEX(INDIRECT($K$3),21,2)) | C27: =IF(ISERROR(INDEX(INDIRECT($K$3),21,3)),"",INDEX(INDIRECT($K$3),21,3)) | D27: =IF(ISERROR(INDEX(INDIRECT($K$3),21,4)),"",INDEX(INDIRECT($K$3),21,4)) | E27: =IF(ISERROR(INDEX(INDIRECT($K$3),21,6)),"",INDEX(INDIRECT($K$3),21,6)) | F27: =IF(ISERROR(INDEX(INDIRECT($K$3),21,7)),"",INDEX(INDIRECT($K$3),21,7)) | G27: =IF(ISERROR(INDEX(INDIRECT($K$3),21,8)),"",INDEX(INDIRECT($K$3),21,8))
A28: =IF(ISERROR(INDEX(INDIRECT($K$3),22,1)),"",INDEX(INDIRECT($K$3),22,1)) | B28: =IF(ISERROR(INDEX(INDIRECT($K$3),22,2)),"",INDEX(INDIRECT($K$3),22,2)) | C28: =IF(ISERROR(INDEX(INDIRECT($K$3),22,3)),"",INDEX(INDIRECT($K$3),22,3)) | D28: =IF(ISERROR(INDEX(INDIRECT($K$3),22,4)),"",INDEX(INDIRECT($K$3),22,4)) | E28: =IF(ISERROR(INDEX(INDIRECT($K$3),22,5)),"",INDEX(INDIRECT($K$3),22,5)) | F28: =IF(ISERROR(INDEX(INDIRECT($K$3),22,6)),"",INDEX(INDIRECT($K$3),22,6)) | G28: =IF(ISERROR(INDEX(INDIRECT($K$3),22,7)),"",INDEX(INDIRECT($K$3),22,7)) | H28: =IF(ISERROR(INDEX(INDIRECT($K$3),22,8)),"",INDEX(INDIRECT($K$3),22,8))
A29: =IF(ISERROR(INDEX(INDIRECT($K$3),23,1)),"",INDEX(INDIRECT($K$3),23,1)) | B29: =IF(ISERROR(INDEX(INDIRECT($K$3),23,2)),"",INDEX(INDIRECT($K$3),23,2)) | C29: =IF(ISERROR(INDEX(INDIRECT($K$3),23,3)),"",INDEX(INDIRECT($K$3),23,3)) | D29: =IF(ISERROR(INDEX(INDIRECT($K$3),23,4)),"",INDEX(INDIRECT($K$3),23,4)) | E29: =IF(ISERROR(INDEX(INDIRECT($K$3),23,5)),"",INDEX(INDIRECT($K$3),23,5)) | F29: =IF(ISERROR(INDEX(INDIRECT($K$3),23,6)),"",INDEX(INDIRECT($K$3),23,6)) | G29: =IF(ISERROR(INDEX(INDIRECT($K$3),23,7)),"",INDEX(INDIRECT($K$3),23,7)) | H29: =IF(ISERROR(INDEX(INDIRECT($K$3),23,8)),"",INDEX(INDIRECT($K$3),23,8))
A30: =IF(ISERROR(INDEX(INDIRECT($K$3),24,1)),"",INDEX(INDIRECT($K$3),24,1)) | B30: =IF(ISERROR(INDEX(INDIRECT($K$3),24,2)),"",INDEX(INDIRECT($K$3),24,2)) | C30: =IF(ISERROR(INDEX(INDIRECT($K$3),24,3)),"",INDEX(INDIRECT($K$3),24,3)) | D30: =IF(ISERROR(INDEX(INDIRECT($K$3),24,4)),"",INDEX(INDIRECT($K$3),24,4)) | E30: =IF(ISERROR(INDEX(INDIRECT($K$3),24,5)),"",INDEX(INDIRECT($K$3),24,5)) | F30: =IF(ISERROR(INDEX(INDIRECT($K$3),24,6)),"",INDEX(INDIRECT($K$3),24,6)) | G30: =IF(ISERROR(INDEX(INDIRECT($K$3),24,7)),"",INDEX(INDIRECT($K$3),24,7)) | H30: =IF(ISERROR(INDEX(INDIRECT($K$3),24,8)),"",INDEX(INDIRECT($K$3),24,8))
A31: =IF(ISERROR(INDEX(INDIRECT($K$3),25,1)),"",INDEX(INDIRECT($K$3),25,1)) | B31: =IF(ISERROR(INDEX(INDIRECT($K$3),25,2)),"",INDEX(INDIRECT($K$3),25,2)) | C31: =IF(ISERROR(INDEX(INDIRECT($K$3),25,3)),"",INDEX(INDIRECT($K$3),25,3)) | D31: =IF(ISERROR(INDEX(INDIRECT($K$3),25,4)),"",INDEX(INDIRECT($K$3),25,4)) | E31: =IF(ISERROR(INDEX(INDIRECT($K$3),25,5)),"",INDEX(INDIRECT($K$3),25,5)) | F31: =IF(ISERROR(INDEX(INDIRECT($K$3),25,6)),"",INDEX(INDIRECT($K$3),25,6)) | G31: =IF(ISERROR(INDEX(INDIRECT($K$3),25,7)),"",INDEX(INDIRECT($K$3),25,7)) | H31: =IF(ISERROR(INDEX(INDIRECT($K$3),25,8)),"",INDEX(INDIRECT($K$3),25,8))
A32: =IF(ISERROR(INDEX(INDIRECT($K$3),26,1)),"",INDEX(INDIRECT($K$3),26,1)) | B32: =IF(ISERROR(INDEX(INDIRECT($K$3),26,2)),"",INDEX(INDIRECT($K$3),26,2)) | C32: =IF(ISERROR(INDEX(INDIRECT($K$3),26,3)),"",INDEX(INDIRECT($K$3),26,3)) | D32: =IF(ISERROR(INDEX(INDIRECT($K$3),26,4)),"",INDEX(INDIRECT($K$3),26,4)) | E32: =IF(ISERROR(INDEX(INDIRECT($K$3),26,5)),"",INDEX(INDIRECT($K$3),26,5)) | F32: =IF(ISERROR(INDEX(INDIRECT($K$3),26,6)),"",INDEX(INDIRECT($K$3),26,6)) | G32: =IF(ISERROR(INDEX(INDIRECT($K$3),26,7)),"",INDEX(INDIRECT($K$3),26,7)) | H32: =IF(ISERROR(INDEX(INDIRECT($K$3),26,8)),"",INDEX(INDIRECT($K$3),26,8))
A33: =IF(ISERROR(INDEX(INDIRECT($K$3),27,1)),"",INDEX(INDIRECT($K$3),27,1)) | B33: =IF(ISERROR(INDEX(INDIRECT($K$3),27,2)),"",INDEX(INDIRECT($K$3),27,2)) | C33: =IF(ISERROR(INDEX(INDIRECT($K$3),27,3)),"",INDEX(INDIRECT($K$3),27,3)) | D33: =IF(ISERROR(INDEX(INDIRECT($K$3),27,4)),"",INDEX(INDIRECT($K$3),27,4)) | E33: =IF(ISERROR(INDEX(INDIRECT($K$3),27,5)),"",INDEX(INDIRECT($K$3),27,5)) | F33: =IF(ISERROR(INDEX(INDIRECT($K$3),27,6)),"",INDEX(INDIRECT($K$3),27,6)) | G33: =IF(ISERROR(INDEX(INDIRECT($K$3),27,7)),"",INDEX(INDIRECT($K$3),27,7)) | H33: =IF(ISERROR(INDEX(INDIRECT($K$3),27,8)),"",INDEX(INDIRECT($K$3),27,8))
A34: =IF(ISERROR(INDEX(INDIRECT($K$3),28,1)),"",INDEX(INDIRECT($K$3),28,1)) | B34: =IF(ISERROR(INDEX(INDIRECT($K$3),28,2)),"",INDEX(INDIRECT($K$3),28,2)) | C34: =IF(ISERROR(INDEX(INDIRECT($K$3),28,3)),"",INDEX(INDIRECT($K$3),28,3)) | D34: =IF(ISERROR(INDEX(INDIRECT($K$3),28,4)),"",INDEX(INDIRECT($K$3),28,4)) | E34: =IF(ISERROR(INDEX(INDIRECT($K$3),28,5)),"",INDEX(INDIRECT($K$3),28,5)) | F34: =IF(ISERROR(INDEX(INDIRECT($K$3),28,6)),"",INDEX(INDIRECT($K$3),28,6)) | G34: =IF(ISERROR(INDEX(INDIRECT($K$3),28,7)),"",INDEX(INDIRECT($K$3),28,7)) | H34: =IF(ISERROR(INDEX(INDIRECT($K$3),28,8)),"",INDEX(INDIRECT($K$3),28,8))
A35: =IF(ISERROR(INDEX(INDIRECT($K$3),29,1)),"",INDEX(INDIRECT($K$3),29,1)) | B35: =IF(ISERROR(INDEX(INDIRECT($K$3),29,2)),"",INDEX(INDIRECT($K$3),29,2)) | C35: =IF(ISERROR(INDEX(INDIRECT($K$3),29,3)),"",INDEX(INDIRECT($K$3),29,3)) | D35: =IF(ISERROR(INDEX(INDIRECT($K$3),29,4)),"",INDEX(INDIRECT($K$3),29,4)) | E35: =IF(ISERROR(INDEX(INDIRECT($K$3),29,5)),"",INDEX(INDIRECT($K$3),29,5)) | F35: =IF(ISERROR(INDEX(INDIRECT($K$3),29,6)),"",INDEX(INDIRECT($K$3),29,6)) | G35: =IF(ISERROR(INDEX(INDIRECT($K$3),29,7)),"",INDEX(INDIRECT($K$3),29,7)) | H35: =IF(ISERROR(INDEX(INDIRECT($K$3),29,8)),"",INDEX(INDIRECT($K$3),29,8))
A36: =IF(ISERROR(INDEX(INDIRECT($K$3),30,1)),"",INDEX(INDIRECT($K$3),30,1)) | B36: =IF(ISERROR(INDEX(INDIRECT($K$3),30,2)),"",INDEX(INDIRECT($K$3),30,2)) | C36: =IF(ISERROR(INDEX(INDIRECT($K$3),30,3)),"",INDEX(INDIRECT($K$3),30,3)) | D36: =IF(ISERROR(INDEX(INDIRECT($K$3),30,4)),"",INDEX(INDIRECT($K$3),30,4)) | E36: =IF(ISERROR(INDEX(INDIRECT($K$3),30,5)),"",INDEX(INDIRECT($K$3),30,5)) | F36: =IF(ISERROR(INDEX(INDIRECT($K$3),30,6)),"",INDEX(INDIRECT($K$3),30,6)) | G36: =IF(ISERROR(INDEX(INDIRECT($K$3),30,7)),"",INDEX(INDIRECT($K$3),30,7)) | H36: =IF(ISERROR(INDEX(INDIRECT($K$3),30,8)),"",INDEX(INDIRECT($K$3),30,8))

Sheet データ貼付けシート
B2: 種別 | C2: 事業所番号 | D2: 事業所名 | E2: 登録者数 | F2: 入所者数 | G2: 待機者数 | I2: 基準日
B3: 特養 | C3: 4370200380 | D3: あさひ園 | E3: =VLOOKUP($C3,[1]①入所者等情報貼付けシート!$O$1:$R$65536,2,FALSE) | F3: =VLOOKUP($C3,[1]①入所者等情報貼付けシート!$O$1:$R$65536,3,FALSE) -> 49 | G3: =VLOOKUP($C3,[1]①入所者等情報貼付けシート!$O$1:$R$65536,4,FALSE) -> 86 | I3: 46295
B4: 特養 | C4: 4370200356 | D4: 行楽園 | E4: =VLOOKUP($C4,[1]①入所者等情報貼付けシート!$O$1:$R$65536,2,FALSE) | F4: =VLOOKUP($C4,[1]①入所者等情報貼付けシート!$O$1:$R$65536,3,FALSE) -> 59 | G4: =VLOOKUP($C4,[1]①入所者等情報貼付けシート!$O$1:$R$65536,4,FALSE) -> 73
B5: 特養 | C5: 4370200414 | D5: すずらんの里 | E5: =VLOOKUP($C5,[1]①入所者等情報貼付けシート!$O$1:$R$65536,2,FALSE) | F5: =VLOOKUP($C5,[1]①入所者等情報貼付けシート!$O$1:$R$65536,3,FALSE) -> 50 | G5: =VLOOKUP($C5,[1]①入所者等情報貼付けシート!$O$1:$R$65536,4,FALSE) -> 59
B6: 特養 | C6: 4370200406 | D6: ま心苑 | E6: =VLOOKUP($C6,[1]①入所者等情報貼付けシート!$O$1:$R$65536,2,FALSE) | F6: =VLOOKUP($C6,[1]①入所者等情報貼付けシート!$O$1:$R$65536,3,FALSE) -> 47 | G6: =VLOOKUP($C6,[1]①入所者等情報貼付けシート!$O$1:$R$65536,4,FALSE) -> 53
B7: 特養 | C7: 4370200398 | D7: みやび園 | E7: =VLOOKUP($C7,[1]①入所者等情報貼付けシート!$O$1:$R$65536,2,FALSE) | F7: =VLOOKUP($C7,[1]①入所者等情報貼付けシート!$O$1:$R$65536,3,FALSE) -> 50 | G7: =VLOOKUP($C7,[1]①入所者等情報貼付けシート!$O$1:$R$65536,4,FALSE) -> 125
B8: 特養 | C8: 4372900797 | D8: 坂本の里一灯苑 | E8: =VLOOKUP($C8,[1]①入所者等情報貼付けシート!$O$1:$R$65536,2,FALSE) | F8: =VLOOKUP($C8,[1]①入所者等情報貼付けシート!$O$1:$R$65536,3,FALSE) -> 50 | G8: =VLOOKUP($C8,[1]①入所者等情報貼付けシート!$O$1:$R$65536,4,FALSE) -> 18
B9: 特養 | C9: 4372900334 | D9: 康和苑 | E9: =VLOOKUP($C9,[1]①入所者等情報貼付けシート!$O$1:$R$65536,2,FALSE) | F9: =VLOOKUP($C9,[1]①入所者等情報貼付けシート!$O$1:$R$65536,3,FALSE) -> 50 | G9: =VLOOKUP($C9,[1]①入所者等情報貼付けシート!$O$1:$R$65536,4,FALSE) -> 67
B10: 特養 | C10: 4370202634 | D10: 安寿の里 | E10: =VLOOKUP($C10,[1]①入所者等情報貼付けシート!$O$1:$R$65536,2,FALSE) -> #N/A | F10: =VLOOKUP($C10,[1]①入所者等情報貼付けシート!$O$1:$R$65536,3,FALSE) -> #N/A | G10: =VLOOKUP($C10,[1]①入所者等情報貼付けシート!$O$1:$R$65536,4,FALSE) -> #N/A
B11: 特養 | C11: 4372900664 | D11: 安寿の里 | E11: =VLOOKUP($C11,[1]①入所者等情報貼付けシート!$O$1:$R$65536,2,FALSE) | F11: =VLOOKUP($C11,[1]①入所者等情報貼付けシート!$O$1:$R$65536,3,FALSE) -> 77 | G11: =VLOOKUP($C11,[1]①入所者等情報貼付けシート!$O$1:$R$65536,4,FALSE) -> 110
B12: 特養 | C12: 4372900367 | D12: ひかわの里 | E12: =VLOOKUP($C12,[1]①入所者等情報貼付けシート!$O$1:$R$65536,2,FALSE) | F12: =VLOOKUP($C12,[1]①入所者等情報貼付けシート!$O$1:$R$65536,3,FALSE) -> 30 | G12: =VLOOKUP($C12,[1]①入所者等情報貼付けシート!$O$1:$R$65536,4,FALSE) -> 52
B13: 特養 | C13: 4370202071 | D13: みなみ園 | E13: =VLOOKUP($C13,[1]①入所者等情報貼付けシート!$O$1:$R$65536,2,FALSE) | F13: =VLOOKUP($C13,[1]①入所者等情報貼付けシート!$O$1:$R$65536,3,FALSE) -> 55 | G13: =VLOOKUP($C13,[1]①入所者等情報貼付けシート!$O$1:$R$65536,4,FALSE) -> 47
B14: 地密特養 | C14: 4390200162 | D14: 希望 | E14: =VLOOKUP($C14,[1]①入所者等情報貼付けシート!$O$1:$R$65536,2,FALSE) | F14: =VLOOKUP($C14,[1]①入所者等情報貼付けシート!$O$1:$R$65536,3,FALSE) -> 29 | G14: =VLOOKUP($C14,[1]①入所者等情報貼付けシート!$O$1:$R$65536,4,FALSE) -> 32
B15: 地密特養 | C15: 4390200261 | D15: 八代草 | E15: =VLOOKUP($C15,[1]①入所者等情報貼付けシート!$O$1:$R$65536,2,FALSE) | F15: =VLOOKUP($C15,[1]①入所者等情報貼付けシート!$O$1:$R$65536,3,FALSE) -> 29 | G15: =VLOOKUP($C15,[1]①入所者等情報貼付けシート!$O$1:$R$65536,4,FALSE) -> 30
... B26: 老健 | C26: 4352980025 | D26: かがみ苑 | E26: =VLOOKUP($C26,[1]①入所者等情報貼付けシート!$O$1:$R$65536,2,FALSE) | F26: =VLOOKUP($C26,[1]①入所者等情報貼付けシート!$O$1:$R$65536,3,FALSE) -> 76 | G26: =VLOOKUP($C26,[1]①入所者等情報貼付けシート!$O$1:$R$65536,4,FALSE) -> 9
B27: 介護医療院 | C27: 43B0200019 | D27: 八代敬仁病院介護医療院 | E27: =VLOOKUP($C27,[1]①入所者等情報貼付けシート!$O$1:$R$65536,2,FALSE) | F27: =VLOOKUP($C27,[1]①入所者等情報貼付けシート!$O$1:$R$65536,3,FALSE) -> 35 | G27: =VLOOKUP($C27,[1]①入所者等情報貼付けシート!$O$1:$R$65536,4,FALSE) -> 3
B28: 介護医療院 | C28: 43B0200027 | D28: 平成病院 | E28: =VLOOKUP($C28,[1]①入所者等情報貼付けシート!$O$1:$R$65536,2,FALSE) | F28: =VLOOKUP($C28,[1]①入所者等情報貼付けシート!$O$1:$R$65536,3,FALSE) -> 27 | G28: =VLOOKUP($C28,[1]①入所者等情報貼付けシート!$O$1:$R$65536,4,FALSE) -> 3
B29: 特定施設 | C29: 4370201123 | D29: ブロッサムやつしろ | E29: =VLOOKUP($C29,[1]①入所者等情報貼付けシート!$O$1:$R$65536,2,FALSE) -> 0 | F29: =VLOOKUP($C29,[1]①入所者等情報貼付けシート!$O$1:$R$65536,3,FALSE) -> 18 | G29: =VLOOKUP($C29,[1]①入所者等情報貼付けシート!$O$1:$R$65536,4,FALSE) -> 0
B30: 特定施設 | C30: 4370203004 | D30: ブロッサムやつしろⅢ | E30: =VLOOKUP($C30,[1]①入所者等情報貼付けシート!$O$1:$R$65536,2,FALSE) -> 0 | F30: =VLOOKUP($C30,[1]①入所者等情報貼付けシート!$O$1:$R$65536,3,FALSE) -> 27 | G30: =VLOOKUP($C30,[1]①入所者等情報貼付けシート!$O$1:$R$65536,4,FALSE) -> 0
B31: 特定施設 | C31: 4370202899 | D31: すずらんの杜特定施設 | E31: =VLOOKUP($C31,[1]①入所者等情報貼付けシート!$O$1:$R$65536,2,FALSE) | F31: =VLOOKUP($C31,[1]①入所者等情報貼付けシート!$O$1:$R$65536,3,FALSE) -> 50 | G31: 25
B32: 特定施設 | C32: 4370203442 | D32: すずらん流荘 | E32: =VLOOKUP($C32,[1]①入所者等情報貼付けシート!$O$1:$R$65536,2,FALSE) | F32: =VLOOKUP($C32,[1]①入所者等情報貼付けシート!$O$1:$R$65536,3,FALSE) -> 38 | G32: =VLOOKUP($C32,[1]①入所者等情報貼付けシート!$O$1:$R$65536,4,FALSE) -> 2
B33: 地密特定 | C33: 4390200188 | D33: グッドライフ本町 | E33: =VLOOKUP($C33,[1]①入所者等情報貼付けシート!$O$1:$R$65536,2,FALSE) | F33: =VLOOKUP($C33,[1]①入所者等情報貼付けシート!$O$1:$R$65536,3,FALSE) -> 28 | G33: 0
B34: GH | C34: 4360290003 | D34: ｸﾞﾙｰﾌﾟﾎｰﾑあい | E34: =VLOOKUP($C34,[1]①入所者等情報貼付けシート!$O$1:$R$65536,2,FALSE) -> 0 | F34: =VLOOKUP($C34,[1]①入所者等情報貼付けシート!$O$1:$R$65536,3,FALSE) -> 9 | G34: =VLOOKUP($C34,[1]①入所者等情報貼付けシート!$O$1:$R$65536,4,FALSE) -> 11
B35: GH | C35: 4370200984 | D35: ｸﾞﾙｰﾌﾟﾎｰﾑま心 | E35: =VLOOKUP($C35,[1]①入所者等情報貼付けシート!$O$1:$R$65536,2,FALSE) | F35: =VLOOKUP($C35,[1]①入所者等情報貼付けシート!$O$1:$R$65536,3,FALSE) -> 9 | G35: =VLOOKUP($C35,[1]①入所者等情報貼付けシート!$O$1:$R$65536,4,FALSE) -> 1
B36: GH | C36: 4370201008 | D36: ｸﾞﾙｰﾌﾟﾎｰﾑ清陽 | E36: =VLOOKUP($C36,[1]①入所者等情報貼付けシート!$O$1:$R$65536,2,FALSE) | F36: =VLOOKUP($C36,[1]①入所者等情報貼付けシート!$O$1:$R$65536,3,FALSE) -> 18 | G36: =VLOOKUP($C36,[1]①入所者等情報貼付けシート!$O$1:$R$65536,4,FALSE) -> 12
B37: GH | C37: 4370201446 | D37: ｸﾞﾙｰﾌﾟﾎｰﾑ神苑 | E37: =VLOOKUP($C37,[1]①入所者等情報貼付けシート!$O$1:$R$65536,2,FALSE) | F37: =VLOOKUP($C37,[1]①入所者等情報貼付けシート!$O$1:$R$65536,3,FALSE) -> 16 | G37: =VLOOKUP($C37,[1]①入所者等情報貼付けシート!$O$1:$R$65536,4,FALSE) -> 3
B38: GH | C38: 4372900698 | D38: ｸﾞﾙｰﾌﾟﾎｰﾑ氷川 | E38: =VLOOKUP($C38,[1]①入所者等情報貼付けシート!$O$1:$R$65536,2,FALSE) | F38: =VLOOKUP($C38,[1]①入所者等情報貼付けシート!$O$1:$R$65536,3,FALSE) -> 18 | G38: =VLOOKUP($C38,[1]①入所者等情報貼付けシート!$O$1:$R$65536,4,FALSE) -> 7
B39: GH | C39: 4372900748 | D39: ｸﾞﾙｰﾌﾟﾎｰﾑざぼん | E39: =VLOOKUP($C39,[1]①入所者等情報貼付けシート!$O$1:$R$65536,2,FALSE) | F39: =VLOOKUP($C39,[1]①入所者等情報貼付けシート!$O$1:$R$65536,3,FALSE) -> 17 | G39: =VLOOKUP($C39,[1]①入所者等情報貼付けシート!$O$1:$R$65536,4,FALSE) -> 3
B40: GH | C40: 4372900755 | D40: ｸﾞﾙｰﾌﾟﾎｰﾑうやなぎの杜 | E40: =VLOOKUP($C40,[1]①入所者等情報貼付けシート!$O$1:$R$65536,2,FALSE) | F40: =VLOOKUP($C40,[1]①入所者等情報貼付けシート!$O$1:$R$65536,3,FALSE) -> 9 | G40: =VLOOKUP($C40,[1]①入所者等情報貼付けシート!$O$1:$R$65536,4,FALSE) -> 10
B41: GH | C41: 4390200014 | D41: ｸﾞﾙｰﾌﾟﾎｰﾑ八代のぞみ | E41: =VLOOKUP($C41,[1]①入所者等情報貼付けシート!$O$1:$R$65536,2,FALSE) | F41: ― | G41: ―
B42: GH | C42: 4390200097 | D42: ｸﾞﾙｰﾌﾟﾎｰﾑ福寿荘 | E42: =VLOOKUP($C42,[1]①入所者等情報貼付けシート!$O$1:$R$65536,2,FALSE) | F42: =VLOOKUP($C42,[1]①入所者等情報貼付けシート!$O$1:$R$65536,3,FALSE) -> 9 | G42: =VLOOKUP($C42,[1]①入所者等情報貼付けシート!$O$1:$R$65536,4,FALSE) -> 2
B43: GH | C43: 4390200063 | D43: ｸﾞﾙｰﾌﾟﾎｰﾑきずなの郷 | E43: =VLOOKUP($C43,[1]①入所者等情報貼付けシート!$O$1:$R$65536,2,FALSE) | F43: =VLOOKUP($C43,[1]①入所者等情報貼付けシート!$O$1:$R$65536,3,FALSE) -> 8 | G43: =VLOOKUP($C43,[1]①入所者等情報貼付けシート!$O$1:$R$65536,4,FALSE) -> 0
B44: GH | C44: 4390200147 | D44: ｸﾞﾙｰﾌﾟﾎｰﾑだいふくの杜 | E44: =VLOOKUP($C44,[1]①入所者等情報貼付けシート!$O$1:$R$65536,2,FALSE) | F44: =VLOOKUP($C44,[1]①入所者等情報貼付けシート!$O$1:$R$65536,3,FALSE) -> 9 | G44: =VLOOKUP($C44,[1]①入所者等情報貼付けシート!$O$1:$R$65536,4,FALSE) -> 10
B45: GH | C45: 4390200204 | D45: ｸﾞﾙｰﾌﾟﾎｰﾑ清陽「すえひろ」 | E45: =VLOOKUP($C45,[1]①入所者等情報貼付けシート!$O$1:$R$65536,2,FALSE) -> 0 | F45: =VLOOKUP($C45,[1]①入所者等情報貼付けシート!$O$1:$R$65536,3,FALSE) -> 9 | G45: =VLOOKUP($C45,[1]①入所者等情報貼付けシート!$O$1:$R$65536,4,FALSE) -> 10
B46: GH | C46: 4390200253 | D46: ｸﾞﾙｰﾌﾟﾎｰﾑ｢ｸﾞﾘｰﾝｺｰﾌﾟほのか・八代」 | E46: =VLOOKUP($C46,[1]①入所者等情報貼付けシート!$O$1:$R$65536,2,FALSE) | F46: =VLOOKUP($C46,[1]①入所者等情報貼付けシート!$O$1:$R$65536,3,FALSE) -> 9 | G46: =VLOOKUP($C46,[1]①入所者等情報貼付けシート!$O$1:$R$65536,4,FALSE) -> 2
B47: GH | C47: 4390200238 | D47: ｸﾞﾙｰﾌﾟﾎｰﾑひかり | E47: =VLOOKUP($C47,[1]①入所者等情報貼付けシート!$O$1:$R$65536,2,FALSE) | F47: =VLOOKUP($C47,[1]①入所者等情報貼付けシート!$O$1:$R$65536,3,FALSE) -> 9 | G47: =VLOOKUP($C47,[1]①入所者等情報貼付けシート!$O$1:$R$65536,4,FALSE) -> 16
B48: GH | C48: 4390200246 | D48: ｸﾞﾙｰﾌﾟﾎｰﾑ清流 | E48: =VLOOKUP($C48,[1]①入所者等情報貼付けシート!$O$1:$R$65536,2,FALSE) -> 0 | F48: =VLOOKUP($C48,[1]①入所者等情報貼付けシート!$O$1:$R$65536,3,FALSE) -> 9 | G48: =VLOOKUP($C48,[1]①入所者等情報貼付けシート!$O$1:$R$65536,4,FALSE) -> 6
B49: GH | C49: 4390200220 | D49: ｸﾞﾙｰﾌﾟﾎｰﾑしあわせの里 | E49: =VLOOKUP($C49,[1]①入所者等情報貼付けシート!$O$1:$R$65536,2,FALSE) | F49: =VLOOKUP($C49,[1]①入所者等情報貼付けシート!$O$1:$R$65536,3,FALSE) -> 8 | G49: =VLOOKUP($C49,[1]①入所者等情報貼付けシート!$O$1:$R$65536,4,FALSE) -> 1
B50: GH | C50: 4390200352 | D50: ｸﾞﾙｰﾌﾟﾎｰﾑ清風 | E50: =VLOOKUP($C50,[1]①入所者等情報貼付けシート!$O$1:$R$65536,2,FALSE) -> 0 | F50: =VLOOKUP($C50,[1]①入所者等情報貼付けシート!$O$1:$R$65536,3,FALSE) -> 7 | G50: =VLOOKUP($C50,[1]①入所者等情報貼付けシート!$O$1:$R$65536,4,FALSE) -> 2
B51: GH | C51: 4390200410 | D51: ｸﾞﾙｰﾌﾟﾎｰﾑ清花 | E51: =VLOOKUP($C51,[1]①入所者等情報貼付けシート!$O$1:$R$65536,2,FALSE) -> 0 | F51: =VLOOKUP($C51,[1]①入所者等情報貼付けシート!$O$1:$R$65536,3,FALSE) -> 9 | G51: =VLOOKUP($C51,[1]①入所者等情報貼付けシート!$O$1:$R$65536,4,FALSE) -> 3
B52: GH | C52: 4390200519 | D52: 瑞穂乃國 | E52: =VLOOKUP($C52,[1]①入所者等情報貼付けシート!$O$1:$R$65536,2,FALSE) | F52: =VLOOKUP($C52,[1]①入所者等情報貼付けシート!$O$1:$R$65536,3,FALSE) -> 9 | G52: =VLOOKUP($C52,[1]①入所者等情報貼付けシート!$O$1:$R$65536,4,FALSE) -> 5
B53: GH | C53: 4390200592 | D53: ｸﾞﾙｰﾌﾟﾎｰﾑ清風 | E53: =VLOOKUP($C53,[1]①入所者等情報貼付けシート!$O$1:$R$65536,2,FALSE) | F53: =VLOOKUP($C53,[1]①入所者等情報貼付けシート!$O$1:$R$65536,3,FALSE) -> 9 | G53: =VLOOKUP($C53,[1]①入所者等情報貼付けシート!$O$1:$R$65536,4,FALSE) -> 3
... B62: 小多機 | C62: 4390200121 | D62: 桃の花 | E62: =VLOOKUP($C62,[1]①入所者等情報貼付けシート!$O$1:$R$65536,2,FALSE) -> 27 | F62: =VLOOKUP($C62,[1]①入所者等情報貼付けシート!$O$1:$R$65536,3,FALSE) | G62: =VLOOKUP($C62,[1]①入所者等情報貼付けシート!$O$1:$R$65536,4,FALSE)
B63: 小多機 | C63: 4390200485 | D63: 小規模多機能型居宅介護 紗綾（休止中） | E63: =VLOOKUP($C63,[1]①入所者等情報貼付けシート!$O$1:$R$65536,2,FALSE) -> #N/A | F63: ― | G63: ―
B64: 小多機 | C64: 4390200493 | D64: 小規模多機能ホーム ブロッサムⅡ | E64: 29 | F64: =VLOOKUP($C64,[1]①入所者等情報貼付けシート!$O$1:$R$65536,3,FALSE) | G64: =VLOOKUP($C64,[1]①入所者等情報貼付けシート!$O$1:$R$65536,4,FALSE)
B65: 看多機 | C65: 4390200295 | D65: 複合型サービス西王母 | E65: =VLOOKUP($C65,[1]①入所者等情報貼付けシート!$O$1:$R$65536,2,FALSE) -> 28 | F65: =VLOOKUP($C65,[1]①入所者等情報貼付けシート!$O$1:$R$65536,3,FALSE) | G65: =VLOOKUP($C65,[1]①入所者等情報貼付けシート!$O$1:$R$65536,4,FALSE)
B66: 看多機 | C66: 4390200501 | D66: セントケア看護小規模八代 | E66: =VLOOKUP($C66,[1]①入所者等情報貼付けシート!$O$1:$R$65536,2,FALSE) -> 20 | F66: =VLOOKUP($C66,[1]①入所者等情報貼付けシート!$O$1:$R$65536,3,FALSE) | G66: =VLOOKUP($C66,[1]①入所者等情報貼付けシート!$O$1:$R$65536,4,FALSE)

Sheet DB
D1: 施設の名称 | E1: 住所（八代市） | F1: 電話番号 | G1: 法人名 | H1: 定員 | I1: 現入所者数 | J1: 入所待機者数 | K1: ユニット情報 | M1: 従来情報 | Q1: 施設の種類
C2: 【 介護老人福祉施設 】 | P2: 1 | Q2: 介護老人福祉施設
C3: 要介護３以上の認定者。費用は介護度、部屋のタイプ、施設の体制により異なる。常に介護が必要で、自宅では介護ができない方が対象の施設。食事、入浴等の日常生活の介護や健康管理を行う。 | P3: 2 | Q3: 地域密着型介護老人福祉施設
A4: 4370200380 | C4: 1 | D4: あさひ園 | E4: 上日置町2345 | F4: ３５-５７５７ | G4: (福)郷寿会 | H4: 50 | I4: =IF(ISERROR(VLOOKUP($A4,データ貼付けシート!$C$3:$G$66,4,FALSE)),0,VLOOKUP($A4,データ貼付けシート!$C$3:$G$66,4,FALSE)) -> 49 | J4: =IF(ISERROR(VLOOKUP($A4,データ貼付けシート!$C$3:$G$66,5,FALSE)),0,VLOOKUP($A4,データ貼付けシート!$C$3:$G$66,5,FALSE)) -> 86 | P4: 3 | Q4: 介護老人保健施設
A5: 4370200356 | C5: 2 | D5: 行楽園 | E5: 日奈久塩北町2905 | F5: ３８-２０１１ | G5: (福)敬愛会 | H5: 60 | I5: =IF(ISERROR(VLOOKUP($A5,データ貼付けシート!$C$3:$G$66,4,FALSE)),0,VLOOKUP($A5,データ貼付けシート!$C$3:$G$66,4,FALSE)) -> 59 | J5: =IF(ISERROR(VLOOKUP($A5,データ貼付けシート!$C$3:$G$66,5,FALSE)),0,VLOOKUP($A5,データ貼付けシート!$C$3:$G$66,5,FALSE)) -> 73 | P5: 4 | Q5: 介護医療院
A6: 4370200414 | C6: 3 | D6: すずらんの里 | E6: 葭牟田町435 | F6: ３９-７５１１ | G6: (福)天龍会 | H6: 50 | I6: =IF(ISERROR(VLOOKUP($A6,データ貼付けシート!$C$3:$G$66,4,FALSE)),0,VLOOKUP($A6,データ貼付けシート!$C$3:$G$66,4,FALSE)) -> 50 | J6: =IF(ISERROR(VLOOKUP($A6,データ貼付けシート!$C$3:$G$66,5,FALSE)),0,VLOOKUP($A6,データ貼付けシート!$C$3:$G$66,5,FALSE)) -> 59 | P6: 5 | Q6: 特定施設入居者生活介護
A7: 4370200406 | C7: 4 | D7: ま心苑 | E7: 敷川内町2251-1 | F7: ３１-７６００ | G7: (福)ま心苑会 | H7: 50 | I7: =IF(ISERROR(VLOOKUP($A7,データ貼付けシート!$C$3:$G$66,4,FALSE)),0,VLOOKUP($A7,データ貼付けシート!$C$3:$G$66,4,FALSE)) -> 47 | J7: =IF(ISERROR(VLOOKUP($A7,データ貼付けシート!$C$3:$G$66,5,FALSE)),0,VLOOKUP($A7,データ貼付けシート!$C$3:$G$66,5,FALSE)) -> 53 | P7: 6 | Q7: 地域密着型特定施設入居者生活介護
A8: 4370200398 | C8: 5 | D8: みやび園 | E8: 高島町4221 | F8: ３２-００８８ | G8: (福)松高福祉会 | H8: 50 | I8: =IF(ISERROR(VLOOKUP($A8,データ貼付けシート!$C$3:$G$66,4,FALSE)),0,VLOOKUP($A8,データ貼付けシート!$C$3:$G$66,4,FALSE)) -> 50 | J8: =IF(ISERROR(VLOOKUP($A8,データ貼付けシート!$C$3:$G$66,5,FALSE)),0,VLOOKUP($A8,データ貼付けシート!$C$3:$G$66,5,FALSE)) -> 125 | P8: 7 | Q8: 認知症対応型共同生活介護
A9: 4372900797 | C9: 6 | D9: 坂本の里一灯苑 | E9: 坂本町坂本1071 | F9: ５３-７２７７ | G9: (福)川岳福祉会 | H9: 50 | I9: =IF(ISERROR(VLOOKUP($A9,データ貼付けシート!$C$3:$G$66,4,FALSE)),0,VLOOKUP($A9,データ貼付けシート!$C$3:$G$66,4,FALSE)) -> 50 | J9: =IF(ISERROR(VLOOKUP($A9,データ貼付けシート!$C$3:$G$66,5,FALSE)),0,VLOOKUP($A9,データ貼付けシート!$C$3:$G$66,5,FALSE)) -> 18 | P9: 8 | Q9: 小規模多機能型居宅介護
A10: 4372900334 | C10: 7 | D10: 康和苑 | E10: 千丁町太牟田1300-8 | F10: ４６-１１４４ | G10: (福)康和福祉会 | H10: 50 | I10: =IF(ISERROR(VLOOKUP($A10,データ貼付けシート!$C$3:$G$66,4,FALSE)),0,VLOOKUP($A10,データ貼付けシート!$C$3:$G$66,4,FALSE)) -> 50 | J10: =IF(ISERROR(VLOOKUP($A10,データ貼付けシート!$C$3:$G$66,5,FALSE)),0,VLOOKUP($A10,データ貼付けシート!$C$3:$G$66,5,FALSE)) -> 67 | P10: 9 | Q10: 複合型サービス
A11: 4370202634 | B11: 4372900664 | C11: 8 | D11: 安寿の里 | E11: 鏡町両出880-1 | F11: ５３-２１００ | G11: (福)至誠会 | H11: 80 | I11: =SUM(K11,M11) -> 77 | J11: =SUM(L11,N11) -> 110 | K11: =IF(ISERROR(VLOOKUP($A11,データ貼付けシート!$C$3:$G$63,4,FALSE)),0,VLOOKUP($A11,データ貼付けシート!$C$3:$G$63,4,FALSE)) -> 0 | L11: =IF(ISERROR(VLOOKUP($A11,データ貼付けシート!$C$3:$G$63,5,FALSE)),0,VLOOKUP($A11,データ貼付けシート!$C$3:$G$63,5,FALSE)) -> 0 | M11: =IF(ISERROR(VLOOKUP($B11,データ貼付けシート!$C$3:$G$63,4,FALSE)),0,VLOOKUP($B11,データ貼付けシート!$C$3:$G$63,4,FALSE)) -> 77 | N11: =IF(ISERROR(VLOOKUP($B11,データ貼付けシート!$C$3:$G$63,5,FALSE)),0,VLOOKUP($B11,データ貼付けシート!$C$3:$G$63,5,FALSE)) -> 110
A12: 4372900367 | C12: 9 | D12: ひかわの里 | E12: 東陽町南752-1 | F12: ６５-３１００ | G12: (福)東泉会 | H12: 30 | I12: =IF(ISERROR(VLOOKUP($A12,データ貼付けシート!$C$3:$G$66,4,FALSE)),0,VLOOKUP($A12,データ貼付けシート!$C$3:$G$66,4,FALSE)) -> 30 | J12: =IF(ISERROR(VLOOKUP($A12,データ貼付けシート!$C$3:$G$66,5,FALSE)),0,VLOOKUP($A12,データ貼付けシート!$C$3:$G$66,5,FALSE)) -> 52
A13: 4370202071 | C13: 10 | D13: みなみ園 | E13: 日奈久塩南町54 | F13: ３８－３７３０ | G13: (福)敬愛会 | H13: 60 | I13: =IF(ISERROR(VLOOKUP($A13,データ貼付けシート!$C$3:$G$66,4,FALSE)),0,VLOOKUP($A13,データ貼付けシート!$C$3:$G$66,4,FALSE)) -> 55 | J13: =IF(ISERROR(VLOOKUP($A13,データ貼付けシート!$C$3:$G$66,5,FALSE)),0,VLOOKUP($A13,データ貼付けシート!$C$3:$G$66,5,FALSE)) -> 47
C14: 【 地域密着型介護老人福祉施設（小規模特養） 】
C15: 八代市が指定する30人未満の介護老人福祉施設 寝たきりや認知症などによる自立した生活が難しい要介護者が、日常的な生活の介護から機能訓練、療養上の世話などを受ける。
A16: 4390200162 | C16: 1 | D16: 希望 | E16: 興善寺町495-1 | F16: ３９-１１２０ | G16: (福）龍峯会 | H16: 29 | I16: =IF(ISERROR(VLOOKUP($A16,データ貼付けシート!$C$3:$G$66,4,FALSE)),0,VLOOKUP($A16,データ貼付けシート!$C$3:$G$66,4,FALSE)) -> 29 | J16: =IF(ISERROR(VLOOKUP($A16,データ貼付けシート!$C$3:$G$66,5,FALSE)),0,VLOOKUP($A16,データ貼付けシート!$C$3:$G$66,5,FALSE)) -> 32
A17: 4390200261 | C17: 2 | D17: 八代草 | E17: 海士江町2833-1 | F17: ６２-８５５０ | G17: (福）平成苑 | H17: 29 | I17: =IF(ISERROR(VLOOKUP($A17,データ貼付けシート!$C$3:$G$66,4,FALSE)),0,VLOOKUP($A17,データ貼付けシート!$C$3:$G$66,4,FALSE)) -> 29 | J17: =IF(ISERROR(VLOOKUP($A17,データ貼付けシート!$C$3:$G$66,5,FALSE)),0,VLOOKUP($A17,データ貼付けシート!$C$3:$G$66,5,FALSE)) -> 30
A18: 4390200279 | C18: 3 | D18: キャッスル麦島 | E18: 古城町1938-1 | F18: ６２-８８６８ | G18: (福）八代愛育会 | H18: 29 | I18: =IF(ISERROR(VLOOKUP($A18,データ貼付けシート!$C$3:$G$66,4,FALSE)),0,VLOOKUP($A18,データ貼付けシート!$C$3:$G$66,4,FALSE)) -> 29 | J18: =IF(ISERROR(VLOOKUP($A18,データ貼付けシート!$C$3:$G$66,5,FALSE)),0,VLOOKUP($A18,データ貼付けシート!$C$3:$G$66,5,FALSE)) -> 42
A19: 4390200378 | C19: 4 | D19: サテライト 安寿の里 | E19: 鏡町内田742-2 | F19: ３７-８５５５ | G19: (福) 至誠会 | H19: 29 | I19: =IF(ISERROR(VLOOKUP($A19,データ貼付けシート!$C$3:$G$66,4,FALSE)),0,VLOOKUP($A19,データ貼付けシート!$C$3:$G$66,4,FALSE)) -> 28 | J19: =IF(ISERROR(VLOOKUP($A19,データ貼付けシート!$C$3:$G$66,5,FALSE)),0,VLOOKUP($A19,データ貼付けシート!$C$3:$G$66,5,FALSE)) -> 110
A20: 4390200451 | C20: 5 | D20: あさひ園みやじ | E20: 宮地町169-1 | F20: ４５－５５９５ | G20: (福) 郷寿会 | H20: 29 | I20: =IF(ISERROR(VLOOKUP($A20,データ貼付けシート!$C$3:$G$66,4,FALSE)),0,VLOOKUP($A20,データ貼付けシート!$C$3:$G$66,4,FALSE)) -> 26 | J20: =IF(ISERROR(VLOOKUP($A20,データ貼付けシート!$C$3:$G$66,5,FALSE)),0,VLOOKUP($A20,データ貼付けシート!$C$3:$G$66,5,FALSE)) -> 23
C21: 【 介護老人保健施設 】
C22: 病状が安定し、リハビリに重点を置いた介護が必要な方が対象。 医学的な管理のもとでの介護や看護、リハビリを行う。 要介護１以上の認定者。費用は介護度、部屋のタイプ、施設の体制により異なる。
A23: 4350280048 | C23: 1 | D23: 皇寿園 | E23: 高島町4218 | F23: ３３-５５４５ | G23: (医)初友会 | H23: 75 | I23: =IF(ISERROR(VLOOKUP($A23,データ貼付けシート!$C$3:$G$66,4,FALSE)),0,VLOOKUP($A23,データ貼付けシート!$C$3:$G$66,4,FALSE)) -> 70 | J23: =IF(ISERROR(VLOOKUP($A23,データ貼付けシート!$C$3:$G$66,5,FALSE)),0,VLOOKUP($A23,データ貼付けシート!$C$3:$G$66,5,FALSE)) -> 3
A24: 4350280063 | B24: 4350280022 | C24: 2 | D24: 向春苑 | E24: 大福寺町2411-1 | F24: ３３-８６６０ | G24: (福)権現福祉会 | H24: 80 | I24: =SUM(K24,M24) -> 80 | J24: =SUM(L24,N24) -> 4 | K24: =IF(ISERROR(VLOOKUP($A24,データ貼付けシート!$C$3:$G$63,4,FALSE)),0,VLOOKUP($A24,データ貼付けシート!$C$3:$G$63,4,FALSE)) -> 0 | L24: =IF(ISERROR(VLOOKUP($A24,データ貼付けシート!$C$3:$G$63,5,FALSE)),0,VLOOKUP($A24,データ貼付けシート!$C$3:$G$63,5,FALSE)) -> 0 | M24: =IF(ISERROR(VLOOKUP($B24,データ貼付けシート!$C$3:$G$63,4,FALSE)),0,VLOOKUP($B24,データ貼付けシート!$C$3:$G$63,4,FALSE)) -> 80 | N24: =IF(ISERROR(VLOOKUP($B24,データ貼付けシート!$C$3:$G$63,5,FALSE)),0,VLOOKUP($B24,データ貼付けシート!$C$3:$G$63,5,FALSE)) -> 4
A25: 4350280030 | C25: 3 | D25: リハリート桜十字八代 | E25: 古閑浜町3401 | F25: ３３-８８８０ | G25: (医)八代桜十字 | H25: 85 | I25: =IF(ISERROR(VLOOKUP($A25,データ貼付けシート!$C$3:$G$66,4,FALSE)),0,VLOOKUP($A25,データ貼付けシート!$C$3:$G$66,4,FALSE)) -> 73 | J25: =IF(ISERROR(VLOOKUP($A25,データ貼付けシート!$C$3:$G$66,5,FALSE)),0,VLOOKUP($A25,データ貼付けシート!$C$3:$G$66,5,FALSE)) -> 6
A26: 4350280071 | B26: 4350280055 | C26: 4 | D26: とまと | E26: 郡築一番町180-1 | F26: ３７-３７３７ | G26: (医)カジオ会 | H26: 83 | I26: =IF(SUM(K26,M26)>H26,M26,SUM(K26,M26)) -> 74 | J26: =IF(SUM(K26,M26)>H26,N26,SUM(L26,N26)) -> 5 | K26: =IF(ISERROR(VLOOKUP($A26,データ貼付けシート!$C$3:$G$63,4,FALSE)),0,VLOOKUP($A26,データ貼付けシート!$C$3:$G$63,4,FALSE)) -> 47 | L26: =IF(ISERROR(VLOOKUP($A26,データ貼付けシート!$C$3:$G$63,5,FALSE)),0,VLOOKUP($A26,データ貼付けシート!$C$3:$G$63,5,FALSE)) -> 8 | M26: =IF(ISERROR(VLOOKUP($B26,データ貼付けシート!$C$3:$G$63,4,FALSE)),0,VLOOKUP($B26,データ貼付けシート!$C$3:$G$63,4,FALSE)) -> 74 | N26: =IF(ISERROR(VLOOKUP($B26,データ貼付けシート!$C$3:$G$63,5,FALSE)),0,VLOOKUP($B26,データ貼付けシート!$C$3:$G$63,5,FALSE)) -> 5
A27: 4350280014 | C27: 5 | D27: ﾊﾋﾟﾈｽｹｱ日南 | E27: 日奈久塩北町2922 | F27: ３８-０７００ | G27: (福)敬愛会 | H27: 80 | I27: =IF(ISERROR(VLOOKUP($A27,データ貼付けシート!$C$3:$G$66,4,FALSE)),0,VLOOKUP($A27,データ貼付けシート!$C$3:$G$66,4,FALSE)) -> 73 | J27: =IF(ISERROR(VLOOKUP($A27,データ貼付けシート!$C$3:$G$66,5,FALSE)),0,VLOOKUP($A27,データ貼付けシート!$C$3:$G$66,5,FALSE)) -> 1
A28: 4352980025 | C28: 6 | D28: かがみ苑 | E28: 鏡町塩浜235 | F28: ３０-４０００ | G28: (医)司会 | H28: 80 | I28: =IF(ISERROR(VLOOKUP($A28,データ貼付けシート!$C$3:$G$66,4,FALSE)),0,VLOOKUP($A28,データ貼付けシート!$C$3:$G$66,4,FALSE)) -> 76 | J28: =IF(ISERROR(VLOOKUP($A28,データ貼付けシート!$C$3:$G$66,5,FALSE)),0,VLOOKUP($A28,データ貼付けシート!$C$3:$G$66,5,FALSE)) -> 9
C29: 【介護医療院】
C30: 要介護１以上の認定者。費用は介護度により異なる。 医療と介護が一体的に受けられます。主に長期にわたり療養が必要な人が対象。
A31: 43B0200019 | C31: 1 | D31: 八代敬仁病院介護医療院 | E31: 海士江町2817 | F31: ３４-７９１１ | G31: (医)敬仁会 | H31: 35 | I31: =IF(ISERROR(VLOOKUP($A31,データ貼付けシート!$C$3:$G$66,4,FALSE)),0,VLOOKUP($A31,データ貼付けシート!$C$3:$G$66,4,FALSE)) -> 35 | J31: =IF(ISERROR(VLOOKUP($A31,データ貼付けシート!$C$3:$G$66,5,FALSE)),0,VLOOKUP($A31,データ貼付けシート!$C$3:$G$66,5,FALSE)) -> 3
A32: 43B0200027 | C32: 2 | D32: 平成病院 | E32: 大村町720-1 | F32: ３２-８１７１ | G32: (医)平成会 | H32: 33 | I32: =IF(ISERROR(VLOOKUP($A32,データ貼付けシート!$C$3:$G$66,4,FALSE)),0,VLOOKUP($A32,データ貼付けシート!$C$3:$G$66,4,FALSE)) -> 27 | J32: =IF(ISERROR(VLOOKUP($A32,データ貼付けシート!$C$3:$G$66,5,FALSE)),0,VLOOKUP($A32,データ貼付けシート!$C$3:$G$66,5,FALSE)) -> 3
C33: 【 特定施設入居者生活介護 】
C34: 有料老人ホームなどで食事、入浴などの介護や機能訓練が受けられる施設。
A35: 4370201123 | C35: 1 | D35: ブロッサムやつしろ | E35: 郡築四番町101-4 | F35: ３７-３０３７ | G35: (株)HC.ﾌﾞﾛｯｻﾑｽﾞ | H35: 20 | I35: =IF(ISERROR(VLOOKUP($A35,データ貼付けシート!$C$3:$G$66,4,FALSE)),0,VLOOKUP($A35,データ貼付けシート!$C$3:$G$66,4,FALSE)) -> 18 | J35: =IF(ISERROR(VLOOKUP($A35,データ貼付けシート!$C$3:$G$66,5,FALSE)),0,VLOOKUP($A35,データ貼付けシート!$C$3:$G$66,5,FALSE)) -> 0
A36: 4370203004 | C36: 2 | D36: ブロッサムやつしろⅢ | E36: 郡築三番町81-2 | F36: ４５－５４７２ | G36: (株)HC.ﾌﾞﾛｯｻﾑｽﾞ | H36: 30 | I36: =IF(ISERROR(VLOOKUP($A36,データ貼付けシート!$C$3:$G$66,4,FALSE)),0,VLOOKUP($A36,データ貼付けシート!$C$3:$G$66,4,FALSE)) -> 27 | J36: =IF(ISERROR(VLOOKUP($A36,データ貼付けシート!$C$3:$G$66,5,FALSE)),0,VLOOKUP($A36,データ貼付けシート!$C$3:$G$66,5,FALSE)) -> 0
A37: 4370202899 | C37: 3 | D37: すずらんの杜特定施設 | E37: 葭牟田町428 | F37: ３９－７６１１ | G37: (福)天龍会 | H37: 50 | I37: =IF(ISERROR(VLOOKUP($A37,データ貼付けシート!$C$3:$G$66,4,FALSE)),0,VLOOKUP($A37,データ貼付けシート!$C$3:$G$66,4,FALSE)) -> 50 | J37: =IF(ISERROR(VLOOKUP($A37,データ貼付けシート!$C$3:$G$66,5,FALSE)),0,VLOOKUP($A37,データ貼付けシート!$C$3:$G$66,5,FALSE)) -> 25
A38: 4370203442 | C38: 4 | D38: すずらん流荘 | E38: 豊原下町4115 | F38: ３５－０１１６ | G38: (福)天龍会 | H38: 40 | I38: =IF(ISERROR(VLOOKUP($A38,データ貼付けシート!$C$3:$G$66,4,FALSE)),0,VLOOKUP($A38,データ貼付けシート!$C$3:$G$66,4,FALSE)) -> 38 | J38: =IF(ISERROR(VLOOKUP($A38,データ貼付けシート!$C$3:$G$66,5,FALSE)),0,VLOOKUP($A38,データ貼付けシート!$C$3:$G$66,5,FALSE)) -> 2
C39: 【 地域密着型特定施設入居者生活介護 】
C40: 八代市が指定がする30人未満の特定施設入居者生活介護。 有料老人ホームなどの「特定施設」で、定員２９人以下に入居している要介護者が介護や機能訓練などを受ける。 利用者の病状の急変に備え、医療機関を定め、看護職員と介護職員をそれぞれ１人以上常勤させることが義務付けられている。
A41: 4390200188 | C41: 1 | D41: グッドライフ本町 | E41: 本町１丁目1-60 | F41: ３０-８１８１ | G41: (医)明朋会 | H41: 29 | I41: =IF(ISERROR(VLOOKUP($A41,データ貼付けシート!$C$3:$G$66,4,FALSE)),0,VLOOKUP($A41,データ貼付けシート!$C$3:$G$66,4,FALSE)) -> 28 | J41: =IF(ISERROR(VLOOKUP($A41,データ貼付けシート!$C$3:$G$66,5,FALSE)),0,VLOOKUP($A41,データ貼付けシート!$C$3:$G$66,5,FALSE)) -> 0
C42: 【 認知症対応型共同生活介護 （グループホーム） 】
C43: 認知症の高齢者が共同で生活できる場（住居）で食事、入浴などの介護や支援、機能訓練が受けられる。 要支援２以上でかつ認知症の方が対象。
A44: 4360290003 | C44: 1 | D44: ｸﾞﾙｰﾌﾟﾎｰﾑあい | E44: 島田町863-3 | F44: ３０-８９５２ | G44: (有)あい | H44: 9 | I44: =IF(ISERROR(VLOOKUP($A44,データ貼付けシート!$C$3:$G$66,4,FALSE)),0,VLOOKUP($A44,データ貼付けシート!$C$3:$G$66,4,FALSE)) -> 9 | J44: =IF(ISERROR(VLOOKUP($A44,データ貼付けシート!$C$3:$G$66,5,FALSE)),0,VLOOKUP($A44,データ貼付けシート!$C$3:$G$66,5,FALSE)) -> 11
A45: 4370200984 | C45: 2 | D45: ｸﾞﾙｰﾌﾟﾎｰﾑま心 | E45: 敷川内町2243-2 | F45: ３１-７６００ | G45: (福)ま心苑会 | H45: 9 | I45: =IF(ISERROR(VLOOKUP($A45,データ貼付けシート!$C$3:$G$66,4,FALSE)),0,VLOOKUP($A45,データ貼付けシート!$C$3:$G$66,4,FALSE)) -> 9 | J45: =IF(ISERROR(VLOOKUP($A45,データ貼付けシート!$C$3:$G$66,5,FALSE)),0,VLOOKUP($A45,データ貼付けシート!$C$3:$G$66,5,FALSE)) -> 1
A46: 4370201008 | C46: 3 | D46: ｸﾞﾙｰﾌﾟﾎｰﾑ清陽 | E46: 揚町47-1 | F46: ３５-０６７８ | G46: (福)権現福祉会 | H46: 18 | I46: =IF(ISERROR(VLOOKUP($A46,データ貼付けシート!$C$3:$G$66,4,FALSE)),0,VLOOKUP($A46,データ貼付けシート!$C$3:$G$66,4,FALSE)) -> 18 | J46: =IF(ISERROR(VLOOKUP($A46,データ貼付けシート!$C$3:$G$66,5,FALSE)),0,VLOOKUP($A46,データ貼付けシート!$C$3:$G$66,5,FALSE)) -> 12
A47: 4370201446 | C47: 4 | D47: ｸﾞﾙｰﾌﾟﾎｰﾑ神苑 | E47: 松江本町2-50 | F47: ３２-５５００ | G47: (有)神苑 | H47: 18 | I47: =IF(ISERROR(VLOOKUP($A47,データ貼付けシート!$C$3:$G$66,4,FALSE)),0,VLOOKUP($A47,データ貼付けシート!$C$3:$G$66,4,FALSE)) -> 16 | J47: =IF(ISERROR(VLOOKUP($A47,データ貼付けシート!$C$3:$G$66,5,FALSE)),0,VLOOKUP($A47,データ貼付けシート!$C$3:$G$66,5,FALSE)) -> 3
A48: 4372900698 | C48: 5 | D48: ｸﾞﾙｰﾌﾟﾎｰﾑ氷川 | E48: 東陽町南762-1 | F48: ６５-３１０１ | G48: (福)東泉会 | H48: 18 | I48: =IF(ISERROR(VLOOKUP($A48,データ貼付けシート!$C$3:$G$66,4,FALSE)),0,VLOOKUP($A48,データ貼付けシート!$C$3:$G$66,4,FALSE)) -> 18 | J48: =IF(ISERROR(VLOOKUP($A48,データ貼付けシート!$C$3:$G$66,5,FALSE)),0,VLOOKUP($A48,データ貼付けシート!$C$3:$G$66,5,FALSE)) -> 7
A49: 4372900748 | C49: 6 | D49: ｸﾞﾙｰﾌﾟﾎｰﾑざぼん | E49: 鏡町両出1327-6 | F49: ５２-８１５１ | G49: （有）ウェルフェアファーム | H49: 18 | I49: =IF(ISERROR(VLOOKUP($A49,データ貼付けシート!$C$3:$G$66,4,FALSE)),0,VLOOKUP($A49,データ貼付けシート!$C$3:$G$66,4,FALSE)) -> 17 | J49: =IF(ISERROR(VLOOKUP($A49,データ貼付けシート!$C$3:$G$66,5,FALSE)),0,VLOOKUP($A49,データ貼付けシート!$C$3:$G$66,5,FALSE)) -> 3
A50: 4372900755 | C50: 7 | D50: ｸﾞﾙｰﾌﾟﾎｰﾑうやなぎの杜 | E50: 大福寺町313-1(1) | F50: ３５－２１２０ | G50: (NPO)八竜会 | H50: 9 | I50: =IF(ISERROR(VLOOKUP($A50,データ貼付けシート!$C$3:$G$66,4,FALSE)),0,VLOOKUP($A50,データ貼付けシート!$C$3:$G$66,4,FALSE)) -> 9 | J50: =IF(ISERROR(VLOOKUP($A50,データ貼付けシート!$C$3:$G$66,5,FALSE)),0,VLOOKUP($A50,データ貼付けシート!$C$3:$G$66,5,FALSE)) -> 10
A51: 4390200097 | C51: 8 | D51: ｸﾞﾙｰﾌﾟﾎｰﾑ福寿荘 | E51: 井揚町2552 | F51: ３９-６１００ | G51: (有)福寿荘 | H51: 9 | I51: =IF(ISERROR(VLOOKUP($A51,データ貼付けシート!$C$3:$G$66,4,FALSE)),0,VLOOKUP($A51,データ貼付けシート!$C$3:$G$66,4,FALSE)) -> 9 | J51: =IF(ISERROR(VLOOKUP($A51,データ貼付けシート!$C$3:$G$66,5,FALSE)),0,VLOOKUP($A51,データ貼付けシート!$C$3:$G$66,5,FALSE)) -> 2
A52: 4390200063 | C52: 9 | D52: ｸﾞﾙｰﾌﾟﾎｰﾑきずなの郷 | E52: 古閑下町2225 | F52: ３５-９８８０ | G52: (有)ラポール新世園 | H52: 9 | I52: =IF(ISERROR(VLOOKUP($A52,データ貼付けシート!$C$3:$G$66,4,FALSE)),0,VLOOKUP($A52,データ貼付けシート!$C$3:$G$66,4,FALSE)) -> 8 | J52: =IF(ISERROR(VLOOKUP($A52,データ貼付けシート!$C$3:$G$66,5,FALSE)),0,VLOOKUP($A52,データ貼付けシート!$C$3:$G$66,5,FALSE)) -> 0
A53: 4390200147 | C53: 10 | D53: ｸﾞﾙｰﾌﾟﾎｰﾑだいふくの杜 | E53: 大福寺町313-1(2) | F53: ３５－２１２１ | G53: (NPO)八竜会 | H53: 9 | I53: =IF(ISERROR(VLOOKUP($A53,データ貼付けシート!$C$3:$G$66,4,FALSE)),0,VLOOKUP($A53,データ貼付けシート!$C$3:$G$66,4,FALSE)) -> 9 | J53: =IF(ISERROR(VLOOKUP($A53,データ貼付けシート!$C$3:$G$66,5,FALSE)),0,VLOOKUP($A53,データ貼付けシート!$C$3:$G$66,5,FALSE)) -> 10
A54: 4390200204 | C54: 11 | D54: ｸﾞﾙｰﾌﾟﾎｰﾑ清陽「すえひろ」 | E54: 末広町3-6 | F54: ３３－５００１ | G54: (福)権現福祉会 | H54: 9 | I54: =IF(ISERROR(VLOOKUP($A54,データ貼付けシート!$C$3:$G$66,4,FALSE)),0,VLOOKUP($A54,データ貼付けシート!$C$3:$G$66,4,FALSE)) -> 9 | J54: =IF(ISERROR(VLOOKUP($A54,データ貼付けシート!$C$3:$G$66,5,FALSE)),0,VLOOKUP($A54,データ貼付けシート!$C$3:$G$66,5,FALSE)) -> 10
A55: 4390200253 | C55: 12 | D55: ｸﾞﾙｰﾌﾟﾎｰﾑ｢ｸﾞﾘｰﾝｺｰﾌﾟほのか・八代」 | E55: 本町四丁目2-28 | F55: ３０－０１３１ | G55: （福）グリーンコープ | H55: 9 | I55: =IF(ISERROR(VLOOKUP($A55,データ貼付けシート!$C$3:$G$66,4,FALSE)),0,VLOOKUP($A55,データ貼付けシート!$C$3:$G$66,4,FALSE)) -> 9 | J55: =IF(ISERROR(VLOOKUP($A55,データ貼付けシート!$C$3:$G$66,5,FALSE)),0,VLOOKUP($A55,データ貼付けシート!$C$3:$G$66,5,FALSE)) -> 2
... A61: 4390200519 | C61: 18 | D61: ｸﾞﾙｰﾌﾟﾎｰﾑ瑞穂乃国 | E61: 日奈久大坪町828番地1 | F61: ３８―３２００ | G61: （福）八代日奈久北部福祉会 | H61: 9 | I61: =IF(ISERROR(VLOOKUP($A61,データ貼付けシート!$C$3:$G$66,4,FALSE)),0,VLOOKUP($A61,データ貼付けシート!$C$3:$G$66,4,FALSE)) -> 9 | J61: =IF(ISERROR(VLOOKUP($A61,データ貼付けシート!$C$3:$G$66,5,FALSE)),0,VLOOKUP($A61,データ貼付けシート!$C$3:$G$66,5,FALSE)) -> 5
C62: 【 小規模多機能型居宅介護 】
C63: 小規模な住居型の施設で、通いを中心としながら訪問、短期間の宿泊などを組み合わせて食事、入浴などの介護や支援が受けられる。
A64: 4390200022 | C64: 1 | D64: 吉方庵（きっぽうあん） | E64: 千丁町新牟田2520-2 | F64: ４６-１７９０ | G64: (有)キッポー | H64: 29(通15泊5) | I64: =IF(ISERROR(VLOOKUP($A64,データ貼付けシート!$C$3:$G$66,3,FALSE)),0,VLOOKUP($A64,データ貼付けシート!$C$3:$G$66,3,FALSE)) -> 23
A65: 4390200048 | C65: 2 | D65: 憩いの家 楽しみ | E65: 新町3-21 | F65: ３５-１６１６ | G65: (福)二見中央福祉会 | H65: 25(通15泊7) | I65: =IF(ISERROR(VLOOKUP($A65,データ貼付けシート!$C$3:$G$66,3,FALSE)),0,VLOOKUP($A65,データ貼付けシート!$C$3:$G$66,3,FALSE)) -> 25
A66: 4390200527 | C66: 3 | D66: 木もれびの家 | E66: 東陽町南1067-1 | F66: ６５-３０１１ | G66: （株）フォーハート熊本 | H66: 24(通12泊7) | I66: =IF(ISERROR(VLOOKUP($A66,データ貼付けシート!$C$3:$G$66,3,FALSE)),0,VLOOKUP($A66,データ貼付けシート!$C$3:$G$66,3,FALSE)) -> 21
A67: 4390200071 | C67: 4 | D67: なごみの広場 | E67: 豊原下町4115番地 | F67: ３５-０１１２ | G67: (福)天龍会 | H67: 29(通15泊5) | I67: =IF(ISERROR(VLOOKUP($A67,データ貼付けシート!$C$3:$G$66,3,FALSE)),0,VLOOKUP($A67,データ貼付けシート!$C$3:$G$66,3,FALSE)) -> 26
A68: 4390200105 | C68: 5 | D68: ブロッサム | E68: 沖町3604 | F68: ３３-２０３４ | G68: (株)ヒューマンケアブロッサムズ | H68: 29(通15泊6) | I68: =IF(ISERROR(VLOOKUP($A68,データ貼付けシート!$C$3:$G$66,3,FALSE)),0,VLOOKUP($A68,データ貼付けシート!$C$3:$G$66,3,FALSE)) -> 28
A69: 4390200113 | C69: 6 | D69: 小規模多機能ホームこうだ | E69: 高下西町1760 | F69: ３５-１５６６ | G69: (福)権現福祉会 | H69: 29(通18泊9) | I69: =IF(ISERROR(VLOOKUP($A69,データ貼付けシート!$C$3:$G$66,3,FALSE)),0,VLOOKUP($A69,データ貼付けシート!$C$3:$G$66,3,FALSE)) -> 27
A70: 4390200121 | C70: 7 | D70: 桃の花 | E70: 鏡町両出1327-1 | F70: ５２-００１２ | G70: （有）ウェルフェアファーム | H70: 29(通18泊9) | I70: =IF(ISERROR(VLOOKUP($A70,データ貼付けシート!$C$3:$G$66,3,FALSE)),0,VLOOKUP($A70,データ貼付けシート!$C$3:$G$66,3,FALSE)) -> 27
A71: 4390200485 | C71: 8 | D71: 小規模多機能型居宅介護 紗綾（休止中） | E71: 泉町下岳4350 | F71: ６７-２８８８ | G71: 合同会社 如月 | H71: 29(通18泊6) | I71: =IF(ISERROR(VLOOKUP($A71,データ貼付けシート!$C$3:$G$66,3,FALSE)),0,VLOOKUP($A71,データ貼付けシート!$C$3:$G$66,3,FALSE)) -> 0
A72: 4390200493 | C72: 9 | D72: 小規模多機能ホーム ブロッサムⅡ | E72: 郡築３番町81-1 | F72: ３７-３５３３ | G72: (株)ヒューマンケアブロッサムズ | H72: 29(通15泊9) | I72: =IF(ISERROR(VLOOKUP($A72,データ貼付けシート!$C$3:$G$66,3,FALSE)),0,VLOOKUP($A72,データ貼付けシート!$C$3:$G$66,3,FALSE)) -> 29
C73: 【 複合型サービス 】
C74: 医療ニーズの高い要介護者に対応するため、小規模多機能居宅介護のサービスに加え、必要に応じて訪問看護のサービスがうけられる。
A75: 4390200295 | C75: 1 | D75: 複合型サービス西王母 | E75: 松江本町2-50 | F75: ６２-８８６５ | G75: (有)神苑 | H75: 29(通15泊9) | I75: =IF(ISERROR(VLOOKUP($A75,データ貼付けシート!$C$3:$G$66,3,FALSE)),0,VLOOKUP($A75,データ貼付けシート!$C$3:$G$66,3,FALSE)) -> 28
A76: 4390200501 | C76: 2 | D76: セントケア看護小規模八代 | E76: 鏡町下有佐189-1 | F76: ５２-８２１１ | G76: セントケア九州（株） | H76: 29(通18泊7) | I76: =IF(ISERROR(VLOOKUP($A76,データ貼付けシート!$C$3:$G$66,3,FALSE)),0,VLOOKUP($A76,データ貼付けシート!$C$3:$G$66,3,FALSE)) -> 20
